BEGIN:VCALENDAR
VERSION:2.0
PRODID: -//Q4 Inc.//EN
METHOD:PUBLISH
BEGIN:VTIMEZONE
TZID:America/New_York
X-LIC-LOCATION:America/New_York
BEGIN:DAYLIGHT
TZOFFSETFROM:-0500
TZOFFSETTO:-0400
TZNAME:EDT
DTSTART:19700308T020000
RRULE:FREQ=YEARLY;BYMONTH=3;BYDAY=2SU
END:DAYLIGHT
BEGIN:STANDARD
TZOFFSETFROM:-0400
TZOFFSETTO:-0500
TZNAME:EST
DTSTART:19701101T020000
RRULE:FREQ=YEARLY;BYMONTH=11;BYDAY=1SU
END:STANDARD
END:VTIMEZONE
BEGIN:VEVENT
ORGANIZER:MAILTO:investor.relations@ir.centurylink.com
DTSTART;TZID="America/New_York":20260518T000000
DTEND;TZID="America/New_York":20260518T000000
LOCATION:
UID:bb8ab641-f725-4860-86a9-0c5e04730569
DTSTAMP:20260424T095816
SUMMARY:JP Morgan Global Tech Conference
DESCRIPTION: View More Information: https://ir.lumen.com/events-and-presentations/event-details/2026/-JP-Morgan-Global-Tech-Conference--2026-PWLIwKu_4H/default.aspx
URL;VALUE=URI:https://ir.lumen.com/events-and-presentations/event-details/2026/-JP-Morgan-Global-Tech-Conference--2026-PWLIwKu_4H/default.aspx
PRIORITY:5
CLASS:PUBLIC
END:VEVENT
END:VCALENDAR
